BEGIN:VCALENDAR
VERSION:2.0
PRODID:-//Plone.org//NONSGML plone.app.event//EN
X-WR-TIMEZONE:Asia/Kuala_Lumpur
BEGIN:VEVENT
SUMMARY:Civic Hacking 101
DTSTART;TZID=Asia/Kuala_Lumpur:20180526T100000
DTEND;TZID=Asia/Kuala_Lumpur:20180526T130000
DTSTAMP:20260423T233042Z
UID:15dbac19fcc4424bb73cc7a3a46bc0c0@sinarproject.org
CONTACT:Ng Swee Meng\, sweester@sinarproject.org\, https://www.facebook.co
 m/events/1400269700079111/
CREATED:20180524T031049Z
DESCRIPTION:This event is mostly to recruit people to help out of Sinar Pr
 oject projects. We will start the event with introduction to Civic Tech\, 
 then we talk about project that we have\, then try to see what project the
  participant interested.
LAST-MODIFIED:20180531T221815Z
LOCATION:Piccadilly Restaurant
URL:https://sinarproject.org/open-government/activities/civic-hacking-101
END:VEVENT
BEGIN:VTIMEZONE
TZID:Asia/Kuala_Lumpur
X-LIC-LOCATION:Asia/Kuala_Lumpur
BEGIN:STANDARD
DTSTART:19820101T000000
TZNAME:+08
TZOFFSETFROM:+0730
TZOFFSETTO:+0800
END:STANDARD
END:VTIMEZONE
END:VCALENDAR
